BEGIN:VCALENDAR
VERSION:2.0
PRODID:-//Bonaire Bird Tours - ECPv6.15.20//NONSGML v1.0//EN
CALSCALE:GREGORIAN
METHOD:PUBLISH
X-ORIGINAL-URL:https://bonairebirdtours.com/nl/
X-WR-CALDESC:Evenementen voor Bonaire Bird Tours
REFRESH-INTERVAL;VALUE=DURATION:PT1H
X-Robots-Tag:noindex
X-PUBLISHED-TTL:PT1H
BEGIN:VTIMEZONE
TZID:America/Curacao
BEGIN:STANDARD
TZOFFSETFROM:-0400
TZOFFSETTO:-0400
TZNAME:AST
DTSTART:20180101T000000
END:STANDARD
END:VTIMEZONE
BEGIN:VEVENT
DTSTART;VALUE=DATE:20201017
DTEND;VALUE=DATE:20201018
DTSTAMP:20260421T211008
CREATED:20200904T175059Z
LAST-MODIFIED:20240622T144334Z
UID:19216-1602892800-1602979199@bonairebirdtours.com
SUMMARY:Oktober Wereldwijde Grote Dag\, 2020
DESCRIPTION:Op Oktober Big Day 2019 dienden meer dan 20.000 deelnemers 42.700 checklists in met 6.709 soorten. Hoeveel checklists en deelnemers hebben we dit jaar? Waar je ook vogelt\, veel plezier\, blijf veilig\, geniet van de vogels die je vindt en deel je waarnemingen op eBird. Uw waarnemingen zullen bijdragen aan een beter begrip van de wereldwijde vogelpopulaties door middel van producten zoals deze geanimeerde dichtheidskaarten\, die u worden aangeboden door eBird Science. \nWereldwijd Vogelweekend\nBovendien vindt de Grote Oktoberdag 2020 dit jaar plaats tijdens het eerste \n  Wereldwijd Vogelweekend\n. Het doel van Global Bird Weekend is om van 17-18 oktober het grootste vogelweekend ooit te maken en de oproep van BirdLife International te steunen om een einde te maken aan de illegale vogelhandel. Een van de doelen van Global Bird Weekend is om op 17 oktober meer dan 25.000 mensen eBird-checklists te laten indienen – wil jij een van hen zijn? \nWe erkennen dat COVID-19 onze gemeenschappen blijft beïnvloeden. Zelfs als de lokale omstandigheden zijn verbeterd\, moedigen we iedereen aan om veiligheid voorop te stellen\, de lokale gezondheidsrichtlijnen te volgen en \n  bewust te vogels\n. Je kunt thuis vogelen en toch meedoen aan Oktober Big Day! \nHoe deel te nemen\n\nNeem een eBird-account: eBird is een wereldwijd vogelchecklistprogramma dat door miljoenen vogelaars wordt gebruikt. Zo kunnen we alle waarnemingen verzamelen in één grote oktober Big Day lijst en tegelijkertijd gegevens verzamelen die wetenschappers kunnen gebruiken om vogels beter te begrijpen.  Meld je hier aan.  Het is 100% gratis.\nVogels kijken op 17 oktober. Zo eenvoudig is het! Oktober Big Day loopt van middernacht tot middernacht in jouw lokale tijdzone. Je hoeft geen vogelexpert te zijn of de hele dag op pad te gaan. Je kunt vogels overal ter wereld melden – zelfs 10 minuten in je achtertuin helpt al.\nVoer wat je ziet en hoort in op eBird: Je kunt je waarnemingen invoeren \n  via de eBird-website\n of – nog makkelijker – download de \n  gratis eBird Mobiel app\n. Met de app kun je lijsten bijhouden en indienen terwijl je aan het vogelen bent\, Hotspots in de buurt verkennen en zelfs bijhouden hoe ver je hebt gelopen zodat je je kunt concentreren op vogels kijken. Stuur je eBird checklists in voor 21 oktober om te worden opgenomen in de aankondiging van de eerste resultaten.\nKijk hoe de waarnemingen binnenstromen: Houd overdag in de gaten hoe de lijsten in verschillende delen van de wereld groeien. Volg mee met verslagen uit meer dan 150 landen. De statistieken worden in real-time bijgewerkt op onze \n  Oktober Grote Dag pagina\n.\n\nVogels vinden en checklists bijhouden is eenvoudig met de gratis eBird Mobile app. Downloaden voor iOS of Android. \nGlobal Big Day Pro Tips\n\nAls je nieuw bent met eBird of je checklists waardevoller wilt maken voor wetenschap en natuurbehoud\, doe dan de gratis eBird Essentials cursus.\nGebruik Cornell Lab’s \n  Merlin Bird ID\n app voor hulp bij het identificeren van lastige soorten en gebruik daarna eBird om ze te melden\, zodat je waarnemingen deel uitmaken van de totalen van Oktober Big Day.\nMaak foto’s en voeg ze toe aan je checklistMisschien komen ze wel op de Grote Dag-pagina van oktober!\nMaak je waarnemingen waardevoller: dien volledige checklists in\, tel de vogels die je ziet en houd meerdere checklists bij gedurende de dag.\nDeel wat je ziet op sociale media met #oktoberbigday!
URL:https://bonairebirdtours.com/nl/event/oktober-wereldwijde-grote-dag-2020/
LOCATION:Bonaire\, Caribisch Nederland
CATEGORIES:Vogelevenement
ATTACH;FMTTYPE=image/jpeg:https://eadn-wc01-14877445.nxedge.io/wp-content/uploads/2019/08/yellow-warbler-500px.jpg
END:VEVENT
BEGIN:VEVENT
DTSTART;VALUE=DATE:20200903
DTEND;VALUE=DATE:20200910
DTSTAMP:20260421T211008
CREATED:20200205T205158Z
LAST-MODIFIED:20260216T131219Z
UID:19224-1599091200-1599695999@bonairebirdtours.com
SUMMARY:Wereld Kustvogeldag 2020\, Tel Kustvogels!
DESCRIPTION:Terwijl de World Shorebirds Day 2020 plaatsvindt op zondag 6 september 2020\, zal de Global Shorebird Count dit jaar plaatsvinden van 3 tot en met 9 september 2020.\nOveral in het Caribisch gebied zullen vogelaars van eiland tot eiland checklists samenstellen en ze registreren op \neBird Caribisch gebied\n. Onze trekkende kustvogels zijn kwetsbaarder dan ooit\, bedreigd door menselijke activiteiten die hun habitat hebben veranderd. De meeste soorten kustvogels gaan wereldwijd achteruit. \n\neBird Caribisch gebied\n is een essentieel hulpmiddel voor het volgen en begrijpen van vogeltrek en populatieveranderingen – nooit meer dan voor onze kustvogels. Als je nog geen account hebt\, kun je je eenvoudig registreren – hier is een \nkorte handleiding voor het online invoeren van eBird-gegevens\n. Er is zelfs een gratis eBird Essentials cursus om je volledig te oriënteren. Download de gratis mobiele app om je gegevens in het veld op te nemen. \nLet op: kustvogels zijn een soort watervogels en alle tellingen die je doet in wetlands\, mangroves\, wadden\, kustgebieden of stranden tellen mee als Caribische watervogeltelling tellingen. Om de waarde van je telling voor de wetenschap te verhogen\, moet je ervoor zorgen dat je ALLE vogels op je locatie telt\, inclusief zeevogels\, reigers en zilverreigers\, landvogels\, etc. \nLaat uw kustvogels tellen – stuur uw gegevens in en deel ze!\nOm je ingezonden gegevens zichtbaar te maken voor World Shorebirds Day\, kun je je checklist delen met \nworldshorebirdsday\n eBird-gebruikersnaam van World Shorebirds Day\, of voegshorebirdsday@gmail.com e-mailadres toe aan je contactenlijst en deel al je gerelateerde checklists. Alleen checklists die zijn gemaakt tijdens de telperiode van Wereldkustvogeldag tussen 3 en 9 september 2019 (inclusief) komen in aanmerking. Richtlijnen voor het delen van eBird checklists vind je hier. \nHeb je een snelle referentie nodig voor een kustvogel die je hebt gespot? Of een educatieve bron voor je school of kantoor? Bekijk onze poster over veelvoorkomende kustvogels in het Caribisch gebied\, die beschikbaar is in het Engels\, Spaans en Frans. Download ze van deze pagina. \n \n  \nWat te doen als u vogels met een banderol ziet\nKijk uit naar vogels met een bandje! Vooral Pijlstaartplevieren\, Grote Karekieten\, Drieteenstrandlopers\, Kuifeenden en Drieteenstrandlopers. Je kunt je waarnemingen melden bij BandedBirds.org en het USGS Vogelbandlaboratorium die toezicht houden op alle banderolleringen in de Verenigde Staten.
URL:https://bonairebirdtours.com/nl/event/wereld-kustvogeldag-2020-tel-kustvogels/
LOCATION:Bonaire\, Caribisch Nederland
CATEGORIES:Vogelevenement
ATTACH;FMTTYPE=image/jpeg:https://eadn-wc01-14877445.nxedge.io/wp-content/uploads/2019/08/spotted-sanndpiper-bonaire.jpg
END:VEVENT
BEGIN:VEVENT
DTSTART;TZID=America/Curacao:20200725T060000
DTEND;TZID=America/Curacao:20200725T080000
DTSTAMP:20260421T211008
CREATED:20200205T200756Z
LAST-MODIFIED:20240622T144341Z
UID:19231-1595656800-1595664000@bonairebirdtours.com
SUMMARY:Papegaaienhut tellen
DESCRIPTION:Stichting Echo houdt een tweede Papegaaienhoosttelling op zaterdag 25 juli 2020 van 6:00 tot 8:00 uur om de papegaaienpopulatie op Bonaire te meten na het belangrijkste broedseizoen en ook om veranderingen in het droge seizoen versus het regenseizoen vast te stellen. \n\n\n\n\n\n\n\nDe organisatiebijeenkomst is op donderdag 16 juli om 17.30 uur in het Dos Pos Clubhuis\, je kunt parkeren bij de Dos Pos Windmolen.Tijdens de bijeenkomst zal Echo uitleggen hoe de telling wordt uitgevoerd\, wat er van je wordt verwacht en hoe je het Summer Roost Count Data Sheet moet invullen als de Dos Pos Flock hopelijk komt roesten in het Echo Dos Pos Conservation Center.\n\n\n\n\n\n\n\n\n\n\n\n\n\n\nBen je niet beschikbaar om de trainingssessie te bezoeken\, maar wil je toch deelnemen aan de telling? Laat het Echo dan weten\, dan kunnen zij ervoor zorgen dat je klaar bent voor de officiële telling op 25 juli 2020.\n\n\n\n\n\n\n\nVoor degenen op Bonaire die willen helpen met deze zeer belangrijke papegaaitelling\, laat het Echo weten via \n  e-mail\n.
URL:https://bonairebirdtours.com/nl/event/papegaaienhut-tellen-2/
LOCATION:Bonaire\, Caribisch Nederland
CATEGORIES:Vogelevenement
ATTACH;FMTTYPE=image/jpeg:https://eadn-wc01-14877445.nxedge.io/wp-content/uploads/2020/01/yellow-shouldered-parrot.jpg
END:VEVENT
BEGIN:VEVENT
DTSTART;VALUE=DATE:20200509
DTEND;VALUE=DATE:20200510
DTSTAMP:20260421T211008
CREATED:20190828T212715Z
LAST-MODIFIED:20240909T123708Z
UID:19232-1588982400-1589068799@bonairebirdtours.com
SUMMARY:Mei Wereldwijde Grote Dag\, 2020
DESCRIPTION:Global Big Day\n is een jaarlijkse viering van de vogels om je heen\, waar je ook bent\, en dit jaar is het niet anders. Hoewel niet iedereen dit jaar van huis kan gaan om te vogelen\, is Global Big Day toch een gelegenheid om de vogels in en rond je woonplaats in de gaten te houden. Word lid van Team Vliegende Staarten op 9 mei en maak deel uit van een wereldwijde vogelgemeenschap door de vogels die je ziet te delen met eBird. \nDeelnemen is eenvoudig. Waar je ook bent\, je kunt deel uitmaken van de wereldwijde gemeenschap van vogelaars. Denk eraan dat veiligheid altijd op de eerste plaats komt en volg alle lokale veiligheidsrichtlijnen en sluitingen. Je kunt thuis van vogels genieten en toch deel uitmaken van Global Big Day. \nAls je minstens 5 of 10 minuten tijd hebt\, meld je waarnemingen dan online aan eBird of met onze gratis eBird mobiele app. Als je meer tijd hebt\, dien dan checklists in van vogels gedurende de dag op verschillende tijdstippen. Vind je ’s ochtends of ’s avonds meer vogels? Je weet nooit wat je tegenkomt. Jouw waarnemingen helpen wetenschappers om de vogelpopulaties wereldwijd beter te begrijpen door middel van producten zoals deze \ngeanimeerde dichtheidskaarten \naangeboden door eBird Science. \nDit jaar staat Global Big Day in het teken van het aantal checklists dat we als wereldwijd team kunnen verzamelen. Vorig jaar verzamelden 35.209 eBirders uit 174 landen maar liefst 92.284 checklists \nop één dag\n. Sluit jij je aan bij de vogelaarsgemeenschap op Global Big Day om ervoor te zorgen dat 2020 het jaar wordt waarin we 100.000 vogellijsten op één dag overtreffen? Help ons een nieuw checklistrecord te vestigen! \nHoe deel te nemen\n\nNeem een eBird-account: eBird is een wereldwijd vogelchecklistprogramma dat door miljoenen vogelaars wordt gebruikt. Hierdoor kunnen wetenschappers alle waarnemingen verzamelen in één enorme Global Big Day-lijst en tegelijkertijd gegevens verzamelen om vogels beter te begrijpen. Meld je hier aan. Het is 100% gratis van begin tot eind.\nLet op vogels op 9 mei: zo simpel is het. Je hoeft geen vogelexpert te zijn of de hele dag op pad te gaan\, zelfs 10 minuten in je achtertuin telt. Global Big Day loopt van middernacht tot middernacht in jouw lokale tijdzone. Je kunt overal ter wereld rapporteren wat je vindt.\nVoer in eBird in wat je ziet en hoort: Je kunt je waarnemingen invoeren \nvia de eBird-website\n of download de \ngratis eBird Mobiel app\ndie het toevoegen van wat je ziet nog makkelijker maakt. Je kunt tijdens het vogelen lijsten invoeren en verzenden en de app houdt bij hoe ver je hebt gelopen\, zodat je je kunt concentreren op het genieten van de vogels. Als je toch gratis apps aan het downloaden bent\, probeer dan ook eens de Cornell Lab’s \nMerlin Bird ID\n app voor hulp bij identificatie. Voer waarnemingen in vóór 13 mei om te worden opgenomen in onze eerste aankondiging van de resultaten.\nKijk hoe de waarnemingen binnenstromen: Volg gedurende de dag waarnemingen uit meer dan 170 landen in real-time op onze \nGlobal Big Day pagina\n.\n\nGlobal Big Day Pro Tips\n\nMet de verspreiding van COVID-19\, volg alstublieft de aanbevelingen van lokale gezondheidsambtenaren op en vermijd onnodig reizen.\nGebruik \nMerlin Vogel ID\n voor hulp bij lastige soorten.\nMaak foto’s en \nvoeg ze toe aan je checklist\nMisschien komen ze wel op de Global Big Day-pagina!\nMaak je waarnemingen waardevoller: dien volledige checklists in\, tel de vogels die je ziet en houd meerdere checklists bij gedurende de dag.\nDeel wat je ziet op sociale media met #globalbigday!\n\nDe Global Big Day van vorig jaar vestigde een nieuw record\, met 92.284 verzamelde vogellijsten op één dag. Op 9 mei hopen we dat je deel uitmaakt van het volgende wereldrecord in de vogelwereld. En wat je ook doet\, veel plezier\, geniet van de vogels die je vindt\, blijf veilig en deel je waarnemingen op eBird. Want in onze wereld telt elke vogel.
URL:https://bonairebirdtours.com/nl/event/mei-wereldwijde-grote-dag-2020/
LOCATION:Bonaire\, Caribisch Nederland
CATEGORIES:Vogelevenement
ATTACH;FMTTYPE=image/jpeg:https://eadn-wc01-14877445.nxedge.io/wp-content/uploads/2019/08/american-flamingos-on-bonaire.jpg
END:VEVENT
BEGIN:VEVENT
DTSTART;VALUE=DATE:20200214
DTEND;VALUE=DATE:20200218
DTSTAMP:20260421T211008
CREATED:20190828T212008Z
LAST-MODIFIED:20240622T144342Z
UID:19236-1581638400-1581983999@bonairebirdtours.com
SUMMARY:Grote achtertuin vogeltelling\, 2020
DESCRIPTION:Dit is de tijd waarin vogelaars van alle leeftijden over de hele wereld samenkomen om vogels te tellen en een realtime momentopname te maken van waar vogels zich bevinden en deze geweldige burgerwetenschap is zo makkelijk als 1-2-3! \n1. \n  Maak een gratis eBird-account aan\n als u nog nooit hebt meegedaan aan de Great Backyard Bird Count of een ander burgerwetenschapsproject van het Cornell Lab. Als je in het verleden al een account hebt aangemaakt voor de GBBC\, of als je al geregistreerd bent bij eBird of een ander burgerwetenschapsproject van het Cornell Lab\, dan kun je je bestaande gebruikersnaam en wachtwoord gebruiken. \n2. Tel minstens 15 minuten vogels op een of meer dagen van de GBBC. Je kunt langer tellen als je wilt! Tel vogels op zoveel plaatsen en dagen als je wilt: één dag\, twee dagen of alle vier de dagen. Dien een aparte checklist in voor elke nieuwe dag\, voor elke nieuwe locatie\, of voor dezelfde locatie als je op een ander tijdstip hebt geteld. Schat het aantal individuen van elke soort dat je tijdens je telperiode hebt gezien. Je kunt de eBird mobiele app gemakkelijk gebruiken om alles bij te houden.  (Zie de pagina Bronnen om de app te downloaden). \n3. Stuur je lijst(en) in via de eBird Mobile app. Als je al deelneemt aan het burgerwetenschapsproject eBird\, gebruik eBird dan om je waarnemingen tijdens de GBBC in te dienen. Je checklists tellen mee voor de GBBC.
URL:https://bonairebirdtours.com/nl/event/grote-achtertuin-vogeltelling-2020/
LOCATION:Bonaire\, Caribisch Nederland
CATEGORIES:Vogelevenement
ATTACH;FMTTYPE=image/jpeg:https://eadn-wc01-14877445.nxedge.io/wp-content/uploads/2019/08/yellow-shouldered-amazon-parrot-bonaire.jpg
END:VEVENT
BEGIN:VEVENT
DTSTART;VALUE=DATE:20200202
DTEND;VALUE=DATE:20200203
DTSTAMP:20260421T211008
CREATED:20191106T184733Z
LAST-MODIFIED:20240622T144345Z
UID:19245-1580601600-1580687999@bonairebirdtours.com
SUMMARY:Wereld Wetlands Dag\, 2020
DESCRIPTION:Kom vandaag World Wetlands Day vieren en ga vogels kijken in een van de beste wetlands van Bonaire!
URL:https://bonairebirdtours.com/nl/event/wereld-wetlands-dag-2020/
LOCATION:Bonaire\, Caribisch Nederland
CATEGORIES:Vogelevenement
ATTACH;FMTTYPE=image/jpeg:https://eadn-wc01-14877445.nxedge.io/wp-content/uploads/2019/06/two-reddish-egrets-hunting-on-bonaire.jpg
END:VEVENT
BEGIN:VEVENT
DTSTART;TZID=America/Curacao:20200125T060000
DTEND;TZID=America/Curacao:20200125T080000
DTSTAMP:20260421T211008
CREATED:20200118T152407Z
LAST-MODIFIED:20240622T144342Z
UID:19234-1579932000-1579939200@bonairebirdtours.com
SUMMARY:Papegaaienhut tellen
DESCRIPTION:Stichting Echo houdt haar jaarlijkse Parrot Roost Count op zaterdag 25 januari 2020 van 6:00 tot 8:00 uur. Voor degenen die mee willen helpen met de telling\, is er een trainingssessie op donderdag 23 januari 2020 op het DCNA kantoor\, gelegen aan Kaya Nikiboko Zuid 56 om 19:00 uur. \nTijdens de trainingssessie zal het Echo-team niet alleen uitleggen hoe de telling precies zal verlopen\, maar ook bepalen wie naar welke locatie gaat tijdens de officiële telling. \nBen je niet beschikbaar om de trainingsbijeenkomst te bezoeken\, maar wil je toch meedoen aan de telling\, laat het Echo dan weten via \n  e-mail\n.
URL:https://bonairebirdtours.com/nl/event/papegaaienhut-tellen-3/
LOCATION:Bonaire\, Caribisch Nederland
CATEGORIES:Vogelevenement
ATTACH;FMTTYPE=image/jpeg:https://eadn-wc01-14877445.nxedge.io/wp-content/uploads/2020/01/yellow-shouldered-parrot.jpg
END:VEVENT
BEGIN:VEVENT
DTSTART;VALUE=DATE:20191019
DTEND;VALUE=DATE:20191020
DTSTAMP:20260421T211008
CREATED:20190828T204708Z
LAST-MODIFIED:20240622T144344Z
UID:19240-1571443200-1571529599@bonairebirdtours.com
SUMMARY:Oktober Wereldwijde Grote Dag\, 2019
DESCRIPTION:Global Big Day is al een aantal jaren een populair evenement\, waarbij alle vogelaars in alle landen ter wereld erop uit trekken om tegelijkertijd vogels te tellen!
URL:https://bonairebirdtours.com/nl/event/oktober-wereldwijde-grote-dag-2019/
LOCATION:Bonaire\, Caribisch Nederland
CATEGORIES:Vogelevenement
ATTACH;FMTTYPE=image/jpeg:https://eadn-wc01-14877445.nxedge.io/wp-content/uploads/2019/08/yellow-warbler-500px.jpg
END:VEVENT
BEGIN:VEVENT
DTSTART;VALUE=DATE:20190903
DTEND;VALUE=DATE:20190910
DTSTAMP:20260421T211008
CREATED:20190829T153304Z
LAST-MODIFIED:20240622T144340Z
UID:19228-1567468800-1568073599@bonairebirdtours.com
SUMMARY:Wereld Kustvogeldag\, 2019
DESCRIPTION:Terwijl World Shorebirds Day vrijdag 6 september 2019 is\, vindt de Global Shorebird Count dit jaar plaats van 3 tot en met 9 september 2019. Overal in het Caribisch gebied zullen vogelaars van eiland tot eiland checklists samenstellen en ze registreren op \n  eBird Caribisch gebied\n. Onze trekkende kustvogels zijn kwetsbaarder dan ooit\, bedreigd door menselijke activiteiten die hun habitat hebben veranderd. De meeste soorten kustvogels gaan wereldwijd achteruit.
URL:https://bonairebirdtours.com/nl/event/wereld-kustvogeldag-2019/
LOCATION:Bonaire\, Caribisch Nederland
CATEGORIES:Vogelevenement
ATTACH;FMTTYPE=image/jpeg:https://eadn-wc01-14877445.nxedge.io/wp-content/uploads/2019/08/spotted-sanndpiper-bonaire.jpg
END:VEVENT
END:VCALENDAR