BEGIN:VCALENDAR
VERSION:2.0
PRODID:-//Bonaire Bird Tours - ECPv6.15.20//NONSGML v1.0//EN
CALSCALE:GREGORIAN
METHOD:PUBLISH
X-ORIGINAL-URL:https://bonairebirdtours.com/nl/
X-WR-CALDESC:Evenementen voor Bonaire Bird Tours
REFRESH-INTERVAL;VALUE=DURATION:PT1H
X-Robots-Tag:noindex
X-PUBLISHED-TTL:PT1H
BEGIN:VTIMEZONE
TZID:America/Curacao
BEGIN:STANDARD
TZOFFSETFROM:-0400
TZOFFSETTO:-0400
TZNAME:AST
DTSTART:20250101T000000
END:STANDARD
END:VTIMEZONE
BEGIN:VEVENT
DTSTART;VALUE=DATE:20260509
DTEND;VALUE=DATE:20260510
DTSTAMP:20260421T125441
CREATED:20250520T204820Z
LAST-MODIFIED:20250520T204820Z
UID:21790-1778284800-1778371199@bonairebirdtours.com
SUMMARY:Wereldwijde grote dag\, 2026
DESCRIPTION:Vogels kijken op Bonaire tijdens Global Big Day! \nBonaire\, een klein eiland in het zuidelijke Caribische gebied\, is een populaire bestemming voor vogelaars en duikers uit de hele wereld. Op het eiland leven bijna 250 soorten standvogels en trekvogels. De afgelopen jaren is Bonaire een hotspot geworden voor vogelliefhebbers\, vooral tijdens de Global Big Day\, een wereldwijd vogelevenement dat jaarlijks plaatsvindt op de tweede zaterdag van mei. \nGlobal Big Day is een geweldige kans voor vogelaars om het gevarieerde vogelleven van Bonaire te verkennen en bij te dragen aan de wereldwijde vogelgemeenschap door de soorten die ze waarnemen te rapporteren. Tijdens dit evenement komen vogelaars van over de hele wereld samen om op één dag zoveel mogelijk vogelsoorten te observeren en vast te leggen. De gegevens die tijdens Global Big Day worden verzameld\, helpen om meer inzicht te krijgen in de verspreiding en overvloed van vogelsoorten en kunnen worden gebruikt om de beschermingsinspanningen te beheren. \nBonaire staat bekend om zijn overvloed aan tropische vogels\, waaronder endemische ondersoorten van de geelschouder amazonepapegaai en de bruinkeelparkiet. Enkele van de populairste landvogels om naar te zoeken op het eiland zijn de felgekleurde Gele Wielewaal\, de Venezolaanse Troupial en de twee soorten kolibries\, de Ruby-Topaz kolibrie en de Blauwstaart smaragd. Naast deze kleurrijke soorten\, is Bonaire ook de thuisbasis van een verscheidenheid aan watervogels\, zoals de White-cheeked Pintail\, de Black-necked Stilt en het icoon van het eiland\, de Amerikaanse Flamingo. \nNaast deze inheemse soorten is mei ook een geweldige tijd om trekvogels te observeren als ze Bonaire passeren op weg naar hun broedgebieden in het noorden. Veel van deze trekvogels zijn op weg van Zuid-Amerika naar Noord-Amerika en stoppen op Bonaire om uit te rusten en zich te voeden. Deze vogels zijn een genot voor vogelaars om te observeren en vormen een aanvulling op het toch al rijke vogelleven op het eiland. \nJe zult zeker een onvergetelijke en bevredigende ervaring hebben op Bonaire tijdens Global Big Day! Deelnemen is eenvoudig. Waar je ook bent\, je kunt deel uitmaken van de wereldwijde gemeenschap van vogelaars. Als je minstens 5 of 10 minuten tijd hebt\, meld je waarnemingen dan online aan eBird of met onze gratis eBird mobiele app. Als je meer tijd hebt\, dien dan checklists in van vogels gedurende de dag op verschillende tijdstippen. Vind je ’s ochtends of ’s avonds meer vogels? Je weet nooit wat je tegenkomt. Jouw waarnemingen helpen wetenschappers om de vogelpopulaties wereldwijd beter te begrijpen door middel van producten zoals deze \ngeanimeerde dichtheidskaarten \naangeboden door eBird Science. \nHoe deel te nemen\n\nNeem een eBird-account: eBird is een wereldwijd vogelchecklistprogramma dat door miljoenen vogelaars wordt gebruikt. Hierdoor kunnen wetenschappers alle waarnemingen verzamelen in één enorme Global Big Day-lijst en tegelijkertijd gegevens verzamelen om vogels beter te begrijpen. Meld je hier aan. Het is 100% gratis van begin tot eind.\nVogels kijken op Global Big Day: Zo eenvoudig is het. Je hoeft geen vogelexpert te zijn of de hele dag op pad te gaan\, zelfs 10 minuten in je achtertuin telt. Global Big Day loopt van middernacht tot middernacht in jouw lokale tijdzone. Je kunt overal ter wereld rapporteren wat je vindt.\nVoer in eBird in wat je ziet en hoort: Je kunt je waarnemingen invoeren \nvia de eBird-website\n of download de \ngratis eBird Mobiel app\ndie het toevoegen van wat je ziet nog makkelijker maakt. Je kunt tijdens het vogelen lijsten invoeren en verzenden en de app houdt bij hoe ver je hebt gelopen\, zodat je je kunt concentreren op het genieten van de vogels. Als je toch gratis apps aan het downloaden bent\, probeer dan ook eens de Cornell Lab’s \nMerlin Bird ID\n app voor hulp bij identificatie.\nKijk hoe de waarnemingen binnenstromen: Volg gedurende de dag waarnemingen uit meer dan 170 landen in real-time op de \nGlobal Big Day pagina\n.\n\nGlobal Big Day Pro Tips\n\nGebruik \nMerlin Vogel ID\n voor hulp bij lastige soorten.\nMaak foto’s en \nvoeg ze toe aan je checklist\nMisschien komen ze wel op de Global Big Day-pagina!\nMaak je waarnemingen waardevoller: dien volledige checklists in\, tel de vogels die je ziet en houd meerdere checklists bij gedurende de dag.\nDeel wat je ziet op sociale media met #globalbigday!
URL:https://bonairebirdtours.com/nl/event/wereldwijde-grote-dag-2026/
LOCATION:Bonaire\, Caribisch Nederland
CATEGORIES:Vogelevenement
ATTACH;FMTTYPE=image/jpeg:https://eadn-wc01-14877445.nxedge.io/wp-content/uploads/2023/05/featured-image-global-big-day-2023-white-cheeked-pintail.jpg
ORGANIZER;CN="Cornell Lab voor ornithologie":MAILTO:cornellbirds@cornell.edu
END:VEVENT
BEGIN:VEVENT
DTSTART;VALUE=DATE:20260906
DTEND;VALUE=DATE:20260907
DTSTAMP:20260421T125441
CREATED:20251016T194223Z
LAST-MODIFIED:20251016T194543Z
UID:22590-1788652800-1788739199@bonairebirdtours.com
SUMMARY:Wereld kustvogeldag\, 2026
DESCRIPTION:Wereld Kustvogeldag is op 6 september 2026!\nOveral in het Caribisch gebied zullen vogelaars van eiland tot eiland checklists samenstellen en ze registreren op eBird Caribisch gebied . Trekvogels zijn kwetsbaarder dan ooit\, bedreigd door menselijke activiteiten zoals de vernietiging van hun habitat\, vervuiling\, verstoring en klimaatverandering. Uit recente analyses blijkt dat kustvogels in Noord-Amerika sterker achteruitgaan dan welke andere vogelgroep dan ook; naar schatting heeft meer dan de helft van de 28 onderzochte soorten in de afgelopen 30 jaar meer dan 50% van hun populatie verloren. Onderzoekers hebben veel meer gegevens nodig over hun bewegingen\, aantallen\, belangrijke vindplaatsen en bedreigingen om ze beter te kunnen beschermen. Dit jaar vragen we iedereen om mee te doen aan de Global Shorebird Count. Of je nu in het Caribisch gebied\, de Atlantic Flyway of waar dan ook ter wereld bent\, je bent uitgenodigd om mee te doen! \n\neBird Caribisch gebied is een essentieel hulpmiddel voor het volgen en begrijpen van vogeltrek en populatieveranderingen – nooit meer dan voor onze kustvogels. Als je nog geen account hebt\, kun je je eenvoudig registreren – hier is een korte handleiding voor het online invoeren van eBird-gegevens. Er is zelfs een gratis eBird Essentials cursus om je volledig te oriënteren. Download de gratis mobiele app om je gegevens in het veld op te nemen. \nLet op: kustvogels zijn een soort watervogels en alle tellingen die je doet in wetlands\, mangroves\, wadden\, kustgebieden of stranden tellen mee als Caribische watervogeltelling tellingen. Om de waarde van je telling voor de wetenschap te verhogen\, moet je ervoor zorgen dat je ALLE vogels op je locatie telt\, inclusief zeevogels\, reigers en zilverreigers\, landvogels\, etc. Als je je tellingen uitvoert\, kies dan een van de CWC-protocollen in de eBird app of wanneer je je gegevens online indient of bewerkt. Als je de app gebruikt\, zorg er dan voor dat je het eBird Caribisch Portaal gebruikt. Om de portal die je gebruikt te controleren of te wijzigen\, ga je naar je instellingen op de app en zoek je naar “Portal”. \n \nLaat uw kustvogels tellen – stuur uw gegevens in en deel ze!\nOm je ingezonden gegevens zichtbaar te maken voor World Shorebirds Day\, kun je je checklist delen met worldshorebirdsday eBird-gebruikersnaam van World Shorebirds Day\, of voegshorebirdsday@gmail.com e-mailadres toe aan uw contactlijst en deel al uw gerelateerde checklists. Richtlijnen voor het delen van eBird checklists vind je hier. Als je iets post op sociale media\, gebruik dan de hashtags #showupforshorebirds\, #WorldShorebirdsDay2023\, #GlobalShorebirdsCount en #WorldShorebirdsDay. \nHeb je een snelle referentie nodig voor een kustvogel die je hebt gespot? Bekijk de Shorebird Identificatiegids voor Bonaire! \n  \nWat te doen als u vogels met een banderol ziet\nKijk uit naar vogels met een bandje! Vooral Pijlstaartplevieren\, Grote Karekieten\, Drieteenstrandlopers\, Kuifeenden en Drieteenstrandlopers. Je kunt je waarnemingen melden bij BandedBirds.org die toezicht houdt op alle banderolleringen in de Verenigde Staten.
URL:https://bonairebirdtours.com/nl/event/wereld-kustvogeldag-2026/
LOCATION:Bonaire\, Caribisch Nederland
CATEGORIES:Vogelevenement
ATTACH;FMTTYPE=image/jpeg:https://eadn-wc01-14877445.nxedge.io/wp-content/uploads/2023/01/year-round-bonaire-birding-pectoral-sandpiper.jpg
END:VEVENT
BEGIN:VEVENT
DTSTART;VALUE=DATE:20261010
DTEND;VALUE=DATE:20261011
DTSTAMP:20260421T125441
CREATED:20251016T194359Z
LAST-MODIFIED:20251016T194359Z
UID:22592-1791590400-1791676799@bonairebirdtours.com
SUMMARY:Grote Oktoberdag\, 2026
DESCRIPTION:Hoe deel te nemen\n\nNeem een eBird-account: eBird is een wereldwijd vogelchecklistprogramma dat door miljoenen vogelaars wordt gebruikt. Hierdoor kan eBird alle waarnemingen verzamelen in één enorme oktober-lijst en tegelijkertijd gegevens verzamelen die wetenschappers kunnen gebruiken om vogels beter te begrijpen. Meld je hier aan. Het is 100% gratis.\nVogels kijken op 10 oktober. Zo eenvoudig is het! Oktober Big Day loopt van middernacht tot middernacht in jouw lokale tijdzone. Je hoeft geen vogelexpert te zijn of de hele dag op pad te gaan. Je kunt vogels overal ter wereld melden – zelfs 10 minuten in je achtertuin helpt al.\nVoer wat je ziet en hoort in op eBird: Je kunt je waarnemingen invoeren \nvia de eBird-website\n of – nog makkelijker – download de \ngratis eBird Mobiel app\n. Met de app kun je lijsten bijhouden en indienen terwijl je aan het vogelen bent\, Hotspots in de buurt verkennen en zelfs bijhouden hoe ver je hebt gelopen zodat je je kunt concentreren op het kijken naar vogels.\n\nVogels vinden en checklists bijhouden is eenvoudig met de gratis eBird Mobile app. Downloaden voor iOS of Android. \nGlobal Big Day Pro Tips\n\nAls je nieuw bent met eBird of je checklists waardevoller wilt maken voor wetenschap en natuurbehoud\, doe dan de gratis eBird Essentials cursus.\nGebruik Cornell Lab’s \nMerlin Bird ID\n app voor hulp bij het identificeren van lastige soorten en gebruik daarna eBird om ze te melden\, zodat je waarnemingen deel uitmaken van de totalen van Oktober Big Day.\nMaak foto’s en voeg ze toe aan je checklistMisschien komen ze wel op de Grote Dag-pagina van oktober!\nMaak je waarnemingen waardevoller: dien volledige checklists in\, tel de vogels die je ziet en houd meerdere checklists bij gedurende de dag.\nDeel wat je ziet op sociale media met #oktoberbigday!
URL:https://bonairebirdtours.com/nl/event/grote-oktoberdag-2026/
LOCATION:Bonaire\, Caribisch Nederland
CATEGORIES:Vogelevenement
ATTACH;FMTTYPE=image/jpeg:https://eadn-wc01-14877445.nxedge.io/wp-content/uploads/2021/05/shorebird-carousel_southern-lapwing.jpg
ORGANIZER;CN="Cornell Lab voor ornithologie":MAILTO:cornellbirds@cornell.edu
END:VEVENT
BEGIN:VEVENT
DTSTART;VALUE=DATE:20270114
DTEND;VALUE=DATE:20270204
DTSTAMP:20260421T125441
CREATED:20251007T153134Z
LAST-MODIFIED:20260318T132533Z
UID:22533-1799884800-1801699199@bonairebirdtours.com
SUMMARY:Caribische watervogeltelling\, 2027
DESCRIPTION:CWC 20276 begint op 14 januari\, loopt tot 3 februari en omvat World Wetlands Day op 2 februari. Zoals altijd hebben we je hulp nodig bij het inventariseren van alle soorten watervogels in de wetlands op Bonaire! Iedereen kan meedoen aan de CWC – ga gewoon naar je dichtstbijzijnde wetland of strand en noteer de vogels die je ziet. Er wacht je een wonderlijke wereld vol watervogels! \nWaarom is de volkstelling belangrijk?\nHet is meer dan alleen een kans op nog een geweldige vogelexcursie. In het Caribisch gebied leven 185 soorten watervogels! Veel van deze soorten zijn migrerend\, maar de groep omvat ook veel inheemse soorten en een aantal die wereldwijd bedreigd zijn. Watervogels en hun habitats in wetlands in het Caribisch gebied worden bedreigd door allerlei factoren\, zoals ontwikkeling\, vervuiling\, menselijke activiteiten en de gevolgen van klimaatverandering. Een gestructureerd onderzoeksprogramma voor de lange termijn\, zoals het CWC\, is essentieel om te begrijpen hoe we deze uitzonderlijke groep vogels het beste kunnen behouden en hun leefgebieden het beste kunnen beheren. \nMaar ik ben geen watervogelexpert! Hoe kan ik helpen?\nAls je nog nooit hebt meegedaan aan de CWC of als je gewoon wat tips wilt voor het plannen en uitvoeren van je CWC enquêtes\, dan kun je de handige CWC Enquête Tips infographic hier gebruiken om je op weg te helpen. Bekijk gedetailleerde instructies voor het uitvoeren van de telling. \nWatervogels en kustvogels staan erom bekend dat ze moeilijk te identificeren zijn. De ene oeverloper kan heel erg op de andere lijken. Lange rekening? Korte rekening? Gele benen? Misschien vindt u de Shorebird Identificatiegids voor Bonaire nuttig zijn. Tel natuurlijk altijd alle vogels die je tegenkomt tijdens de telling\, en daarom is de Bonaire Vogellijst ook nuttig zijn. \n  \nVergeet niet te eBird-en!\nEen belangrijk aspect van de CWC is dat alles wordt vastgelegd en opgeslagen op eBird Caribisch gebied . Als je je waarnemingen invoert\, moet je er zeker van zijn dat je het CWC-protocol gebruikt in Stap 2\, onder “Type waarneming”. eBird speelt een steeds belangrijkere rol in het CWC-proces. Veel plezier!
URL:https://bonairebirdtours.com/nl/event/caribische-watervogeltelling-2027/
LOCATION:Bonaire\, Caribisch Nederland
CATEGORIES:Vogelevenement
ATTACH;FMTTYPE=image/jpeg:https://eadn-wc01-14877445.nxedge.io/wp-content/uploads/2021/07/featured-image-missing-red-knots.jpg
END:VEVENT
BEGIN:VEVENT
DTSTART;VALUE=DATE:20270212
DTEND;VALUE=DATE:20270216
DTSTAMP:20260421T125441
CREATED:20250314T151553Z
LAST-MODIFIED:20260318T133940Z
UID:21563-1802390400-1802735999@bonairebirdtours.com
SUMMARY:Grote achtertuin vogeltelling\, 2027
DESCRIPTION:Help ons vogels tellen op Bonaire tijdens de Great Backyard Bird Count 2027! \nDe 2027 Great Backyard Bird Count (GBBC) staat voor de deur en vogelliefhebbers op Bonaire hebben een unieke kans om deel te nemen aan dit spannende evenement. De GBBC vindt plaats van 12 tot 15 februari en biedt vogelliefhebbers de gelegenheid om de vogels in hun omgeving te observeren en te tellen\, en bij te dragen aan het wereldwijde inzicht in vogelpopulaties en -bewegingen. \nBonaire is een bijzondere plek om deel te nemen aan de GBBC\, omdat het hele eiland wordt beschouwd als één grote achtertuin. Met zijn diverse habitats en talrijke vogelsoorten biedt Bonaire een unieke kans om getuige te zijn van de ongelooflijke verscheidenheid aan vogels die het eiland bewonen. Van de flamingo’s in de zoutmeren tot het vogelleven in Washington Slagbaai National Park\, Bonaire biedt een rijke omgeving voor vogelliefhebbers om te verkennen. \nDeelnemen aan de GBBC op Bonaire is eenvoudig en vereist geen speciale uitrusting of voorkennis van vogels. Alles wat je nodig hebt is een passie voor vogels\, een paar uur om ze te observeren en de bereidheid om bij te dragen aan de wetenschappelijke gemeenschap. Om mee te doen\, tel je gewoon het aantal individuele vogels van elke soort die je op een specifieke locatie en gedurende een specifieke periode ziet en rapporteer je je waarnemingen online via eBird (details hieronder). \nNaast het leveren van waardevolle gegevens aan ornithologen en natuurbeschermers\, is de GBBC ook een leuke en leerzame ervaring voor mensen van alle leeftijden. Het is een geweldige manier om tijd buiten door te brengen\, over vogels te leren en in contact te komen met de natuur. Op Bonaire biedt de GBBC de mogelijkheid om informatie te verzamelen over de vogelpopulaties op het eiland en bij te dragen aan de wereldwijde inspanning om vogelsoorten en hun leefgebieden te beschermen. Door deel te nemen aan de GBBC kunnen inwoners en bezoekers van Bonaire een positieve invloed hebben op het milieu en helpen de toekomst van de vogels op het eiland veilig te stellen. \nDus pak je verrekijker\, ga naar buiten en begin vogels te tellen van 12 tot 15 februari. Uw bijdragen zullen een belangrijk verschil maken in de wereld van de ornithologie en helpen Bonaire’s vogelleven te beschermen voor toekomstige generaties. \nDit is wat je moet doen: \n1. Maak een gratis eBird-account aan  als u nog nooit hebt meegedaan aan de Great Backyard Bird Count of een ander burgerwetenschapsproject van het Cornell Lab. Als je in het verleden al een account hebt aangemaakt voor de GBBC\, of als je al geregistreerd bent bij eBird of een ander burgerwetenschapsproject van het Cornell Lab\, kun je je bestaande gebruikersnaam en wachtwoord gebruiken. \n2. Tel minstens 15 minuten vogels op een of meer dagen van de GBBC. Je kunt langer tellen als je wilt! Tel vogels op zoveel plaatsen en dagen als je wilt: één dag\, twee dagen of alle vier de dagen. Dien een aparte checklist in voor elke nieuwe dag\, voor elke nieuwe locatie\, of voor dezelfde locatie als je op een ander tijdstip hebt geteld. Schat het aantal individuen van elke soort dat je tijdens je telperiode hebt gezien. Je kunt de eBird mobiele app gemakkelijk gebruiken om alles bij te houden. (Zie de pagina Bronnen om de app te downloaden). \n3. Stuur je lijst(en) in via de eBird Mobile app. Als je al deelneemt aan het burgerwetenschapsproject eBird\, gebruik eBird dan om je waarnemingen tijdens de GBBC door te geven. Je checklists tellen mee voor de GBBC. \nHier is een video die je de ins en outs laat zien van deelname aan de Great Backyard Bird Count!
URL:https://bonairebirdtours.com/nl/event/grote-achtertuin-vogeltelling-2027/
LOCATION:Bonaire\, Caribisch Nederland
CATEGORIES:Vogelevenement
ATTACH;FMTTYPE=image/jpeg:https://eadn-wc01-14877445.nxedge.io/wp-content/uploads/2023/04/garden-bird-id-venezuelan-troupial.jpg
ORGANIZER;CN="Cornell Lab voor ornithologie":MAILTO:cornellbirds@cornell.edu
END:VEVENT
END:VCALENDAR