BEGIN:VCALENDAR
VERSION:2.0
PRODID:-//Bonaire Bird Tours - ECPv6.15.20//NONSGML v1.0//EN
CALSCALE:GREGORIAN
METHOD:PUBLISH
X-ORIGINAL-URL:https://bonairebirdtours.com
X-WR-CALDESC:Events for Bonaire Bird Tours
REFRESH-INTERVAL;VALUE=DURATION:PT1H
X-Robots-Tag:noindex
X-PUBLISHED-TTL:PT1H
BEGIN:VTIMEZONE
TZID:America/Curacao
BEGIN:STANDARD
TZOFFSETFROM:-0400
TZOFFSETTO:-0400
TZNAME:AST
DTSTART:20180101T000000
END:STANDARD
END:VTIMEZONE
BEGIN:VEVENT
DTSTART;VALUE=DATE:20191019
DTEND;VALUE=DATE:20191020
DTSTAMP:20260425T110949
CREATED:20190828T204708Z
LAST-MODIFIED:20190829T143621Z
UID:1787-1571443200-1571529599@bonairebirdtours.com
SUMMARY:October Global Big Day\, 2019
DESCRIPTION:Global Big Day has been a popular event for several years\, and it is when all the birdwatchers in all the countries around the world all get out and count birds at the same time!
URL:https://bonairebirdtours.com/event/october-big-day-2019/
LOCATION:Bonaire\, Caribbean Netherlands
CATEGORIES:Birding Event
ATTACH;FMTTYPE=image/jpeg:https://eadn-wc01-14877445.nxedge.io/wp-content/uploads/2019/08/yellow-warbler-500px.jpg
END:VEVENT
BEGIN:VEVENT
DTSTART;VALUE=DATE:20190903
DTEND;VALUE=DATE:20190910
DTSTAMP:20260425T110949
CREATED:20190829T153304Z
LAST-MODIFIED:20210611T173724Z
UID:1811-1567468800-1568073599@bonairebirdtours.com
SUMMARY:World Shorebirds Day\, 2019
DESCRIPTION:While World Shorebirds Day is Friday\, September 6th\, 2019\, this year’s Global Shorebird Count will take place from September 3 through 9\, 2019. All across the Caribbean\, birders will be compiling checklists from island to island and recording them on eBird Caribbean. Our migratory shorebirds are more vulnerable than ever\, threatened by human activities that have changed their habitat. Most species of shorebirds are in decline around the world.
URL:https://bonairebirdtours.com/event/world-shorebirds-day-2019/
LOCATION:Bonaire\, Caribbean Netherlands
CATEGORIES:Birding Event
ATTACH;FMTTYPE=image/jpeg:https://eadn-wc01-14877445.nxedge.io/wp-content/uploads/2019/08/spotted-sanndpiper-bonaire.jpg
END:VEVENT
END:VCALENDAR